BEGIN:VCALENDAR
VERSION:2.0
PRODID:-//Mays Landing Merchants Association - ECPv5.0.2.1//NONSGML v1.0//EN
CALSCALE:GREGORIAN
METHOD:PUBLISH
X-WR-CALNAME:Mays Landing Merchants Association
X-ORIGINAL-URL:https://mayslandingmerchants.com
X-WR-CALDESC:Events for Mays Landing Merchants Association
BEGIN:VTIMEZONE
TZID:UTC
BEGIN:STANDARD
TZOFFSETFROM:+0000
TZOFFSETTO:+0000
TZNAME:UTC
DTSTART:20260101T000000
END:STANDARD
END:VTIMEZONE
BEGIN:VEVENT
DTSTART;TZID=UTC:20260314T100000
DTEND;TZID=UTC:20260314T160000
DTSTAMP:20260420T063452
CREATED:20260305T191731Z
LAST-MODIFIED:20260305T202555Z
UID:5558-1773482400-1773504000@mayslandingmerchants.com
SUMMARY:Spring Renewal
DESCRIPTION: \n
URL:https://mayslandingmerchants.com/event/spring-renewal
LOCATION:Zen Landing\, 4450 Black Hourse Pike\, Mays Landing\, NJ\, 08330\, United States
END:VEVENT
END:VCALENDAR