BEGIN:VCALENDAR
VERSION:2.0
PRODID:-//Mays Landing Merchants Association - ECPv5.0.2.1//NONSGML v1.0//EN
CALSCALE:GREGORIAN
METHOD:PUBLISH
X-WR-CALNAME:Mays Landing Merchants Association
X-ORIGINAL-URL:https://mayslandingmerchants.com
X-WR-CALDESC:Events for Mays Landing Merchants Association
BEGIN:VTIMEZONE
TZID:UTC
BEGIN:STANDARD
TZOFFSETFROM:+0000
TZOFFSETTO:+0000
TZNAME:UTC
DTSTART:20260101T000000
END:STANDARD
END:VTIMEZONE
BEGIN:VEVENT
DTSTART;TZID=UTC:20260404T130000
DTEND;TZID=UTC:20260404T150000
DTSTAMP:20260420T044434
CREATED:20260305T184132Z
LAST-MODIFIED:20260305T202639Z
UID:5553-1775307600-1775314800@mayslandingmerchants.com
SUMMARY:Mays Landing Easter Egg Hunt
DESCRIPTION: \n
URL:https://mayslandingmerchants.com/event/mays-landing-easter-egg-hunt
LOCATION:Gaskill Park\, 24 Farragut Ave\, Mays Landing\, NJ\, 08330\, United States
END:VEVENT
END:VCALENDAR