BEGIN:VCALENDAR
VERSION:2.0
PRODID:-//Mays Landing Merchants Association - ECPv5.0.2.1//NONSGML v1.0//EN
CALSCALE:GREGORIAN
METHOD:PUBLISH
X-WR-CALNAME:Mays Landing Merchants Association
X-ORIGINAL-URL:https://mayslandingmerchants.com
X-WR-CALDESC:Events for Mays Landing Merchants Association
BEGIN:VTIMEZONE
TZID:UTC
BEGIN:STANDARD
TZOFFSETFROM:+0000
TZOFFSETTO:+0000
TZNAME:UTC
DTSTART:20260101T000000
END:STANDARD
END:VTIMEZONE
BEGIN:VEVENT
DTSTART;TZID=UTC:20260506T170000
DTEND;TZID=UTC:20260506T193000
DTSTAMP:20260425T143701
CREATED:20260425T012547Z
LAST-MODIFIED:20260425T013349Z
UID:5606-1778086800-1778095800@mayslandingmerchants.com
SUMMARY:ACEA Regional Economics Alliance Mixer
DESCRIPTION: \n
URL:https://mayslandingmerchants.com/event/acea-regional-economics-alliance-mixer
LOCATION:Lake Lenape Park – East\, 753 Park Rd\, Mays Landing\, NJ\, 08330\, United States
END:VEVENT
END:VCALENDAR